BEGIN:VCALENDAR
VERSION:2.0
PRODID:-//ChamberMaster//Event Calendar 2.0//EN
METHOD:PUBLISH
X-PUBLISHED-TTL:P3D
REFRESH-INTERVAL:P3D
CALSCALE:GREGORIAN
BEGIN:VEVENT
DTSTART:20221028T150000Z
DTEND:20221028T180000Z
X-MICROSOFT-CDO-ALLDAYEVENT:FALSE
SUMMARY:A Day of Empowering Women to Wellness: In Recognition of Breast Cancer Awareness Month
DESCRIPTION:A Focus on Putting Yourself First in Mind\, Body\, and Spirit!\n\nGuest Speakers:\n\nSunshine Spears\, Emerald Coast Hospice\n\nCindy Johnson-Brown\, TherapyWorld of Northwest Florida\n\nTracy Andrews\, Florida Power and Light\n\nLora Bell\, Clerk of Court\, Washington County\, Florida - Keynote Speaker
X-ALT-DESC;FMTTYPE=text/html:A Focus on Putting Yourself First in Mind\, Body\, and Spirit!<br />\nGuest Speakers:<br />\nSunshine Spears\, Emerald Coast Hospice<br />\nCindy Johnson-Brown\, TherapyWorld of Northwest Florida<br />\nTracy Andrews\, Florida Power and Light<br />\nLora Bell\, Clerk of Court\, Washington County\, Florida - Keynote Speaker<br />\n<br />\n<br />\n<br />\n<br />\n<br />\n<br />\n<br />\n<br />\n<br />\n<br />\n<br />\n<br />\n&nbsp\;
LOCATION:Northwest Florida Community Hospital Specialty Center
UID:e.3074.3756
SEQUENCE:3
DTSTAMP:20260422T160747Z
URL:https://www.washcomall.com/events/details/a-day-of-empowering-women-to-wellness-in-recognition-of-breast-cancer-awareness-month-3756
END:VEVENT

END:VCALENDAR
