BEGIN:VCALENDAR
VERSION:2.0
PRODID:-//ChamberMaster//Event Calendar 2.0//EN
METHOD:PUBLISH
X-PUBLISHED-TTL:P3D
REFRESH-INTERVAL:P3D
CALSCALE:GREGORIAN
BEGIN:VEVENT
DTSTART:20260702T150000Z
DTEND:20260702T180000Z
X-MICROSOFT-CDO-ALLDAYEVENT:FALSE
SUMMARY:America 250 Revolution Road Ding Tour Launch
DESCRIPTION:It's official!    on July 2nd we're cutting the ribbon and officially launching a journey through time. Join The Washington County Tourist Development Council and The Washington County Chamber of Commerce Board as we celebrate the preservation of our local heritage before heading out to Orange Hill Park.\n\nWe aren't just opening a site\; we're opening a door to the East-West Corridor the "All- America 250 Revolution Road Driving Tour. Launch route that shaped our community.\n\n\n\nSee you at the park!   \n\n#RibbonCutting #LocalHistory #OrangeHillPark #EastWestCorridor
X-ALT-DESC;FMTTYPE=text/html:<p data-path-to-node="5\,0">It&rsquo\;s official! &#9986\;&#65039\; on July 2nd we&rsquo\;re cutting the ribbon and officially launching a journey through time. Join The Washington County Tourist Development Council and The Washington County Chamber of Commerce&nbsp\;Board as we celebrate the preservation of our local heritage before heading out to <b data-index-in-node="190" data-path-to-node="5\,0">Orange Hill Park</b>.</p>\n\n<p data-path-to-node="5\,1">We aren&#39\;t just opening a site\; we&rsquo\;re opening a door to the East-West Corridor the &quot\;All-&nbsp\;America 250 Revolution Road Driving Tour. Launch route that shaped our community.<br />\n<br />\nSee you at the park! &#127795\;&#10024\;</p>\n\n<p data-path-to-node="5\,2">#RibbonCutting #LocalHistory #OrangeHillPark #EastWestCorridor</p>\n
LOCATION:History is coming alive! We're at Orange Hill Park for a special reenactment organized by the Historical Society. From the deep roots of Native American heritage to the travelers who trekked the East-West Corridor\, the stories of our ancestors are unfolding right before our eyes. Stop by to grab a TDC brochure and enjoy the trail! #LivingHistory #NativeAmericanHeritage #TravelFlorida #HistoricalSociety
UID:e.3074.5157
SEQUENCE:3
DTSTAMP:20260421T190529Z
URL:https://www.washcomall.com/events/details/america-250-revolution-road-ding-tour-launch-5157
END:VEVENT

END:VCALENDAR
