BEGIN:VCALENDAR
VERSION:2.0
PRODID:-//ChamberMaster//Event Calendar 2.0//EN
METHOD:PUBLISH
X-PUBLISHED-TTL:P3D
REFRESH-INTERVAL:P3D
CALSCALE:GREGORIAN
BEGIN:VEVENT
DTSTART:20220331T220000Z
DTEND:20220401T020000Z
X-MICROSOFT-CDO-ALLDAYEVENT:FALSE
SUMMARY:Annual Banquet 2022
DESCRIPTION:It is once again time for the Washington County Chamber of Commerce's Annual Membership Banquet. Our goal is to provide a wonderful evening of fun and entertainment for our members. We  will have a special award presentation\, punch reception\, and silent auction.
X-ALT-DESC;FMTTYPE=text/html:It is once again time for the Washington County Chamber of Commerce&#39\;s Annual Membership Banquet. Our goal is to provide a wonderful evening of fun and entertainment for our members. We&nbsp\; will have a special award presentation\, punch reception\, and silent auction.&nbsp\;
LOCATION:Washington County Agricultural Center. 1424 Jackson Ave Chipley\, FL 32428
UID:e.3074.3719
SEQUENCE:3
DTSTAMP:20260423T044315Z
URL:https://www.washcomall.com/events/details/annual-banquet-2022-3719
END:VEVENT

END:VCALENDAR
