BEGIN:VCALENDAR
VERSION:2.0
PRODID:-//ChamberMaster//Event Calendar 2.0//EN
METHOD:PUBLISH
X-PUBLISHED-TTL:P3D
REFRESH-INTERVAL:P3D
CALSCALE:GREGORIAN
BEGIN:VEVENT
DTSTART:20230316T220000Z
DTEND:20230317T020000Z
X-MICROSOFT-CDO-ALLDAYEVENT:FALSE
SUMMARY:Annual Banquet
DESCRIPTION:Don't miss one of Washington County's most anticipated events of the year the Washington County Chamber of Commerce Annual Banquet! Join us on Thursday\, March 16\, 2023\, at the beautiful Majestic Oaks in Vernon for an unforgettable evening filled with exceptional food\, lively entertainment\, and great company. Celebrate the outstanding Businesses and Volunteer of the Year as we honor those who make our community thrive\, all while supporting the vital work of the Chamber. This special night promises connection\, celebration\, and community spirit you won't want to miss.
X-ALT-DESC;FMTTYPE=text/html:Don&rsquo\;t miss one of Washington County&rsquo\;s most anticipated events of the year&mdash\;the Washington County Chamber of Commerce Annual Banquet! Join us on Thursday\, March 16\, 2023\, at the beautiful Majestic Oaks in Vernon for an unforgettable evening filled with exceptional food\, lively entertainment\, and great company. Celebrate the outstanding Businesses and Volunteer of the Year as we honor those who make our community thrive\, all while supporting the vital work of the Chamber. This special night promises connection\, celebration\, and community spirit you won&rsquo\;t want to miss.
LOCATION:The Majestic Oaks 3351 Mallory Road Vernon\, FL 32462
UID:e.3074.3764
SEQUENCE:3
DTSTAMP:20260422T101641Z
URL:https://www.washcomall.com/events/details/annual-banquet-3764
END:VEVENT

END:VCALENDAR
