BEGIN:VCALENDAR
VERSION:2.0
PRODID:-//ChamberMaster//Event Calendar 2.0//EN
METHOD:PUBLISH
X-PUBLISHED-TTL:P3D
REFRESH-INTERVAL:P3D
CALSCALE:GREGORIAN
BEGIN:VEVENT
DTSTART:20211208T160000Z
DTEND:20211208T170000Z
X-MICROSOFT-CDO-ALLDAYEVENT:FALSE
SUMMARY:Annual Meeting
DESCRIPTION:Join the Washington County Chamber of Commerce to celebrate the official passing of the gavel from the current Board of Directors Chair to the incoming Chair.\n\nOn Zoom December 8th at 10am\n\nPlease look on our Facebook Page for Zoom information.\n\nhttps://www.facebook.com/WashingtonCountyChamberofCommerce
X-ALT-DESC;FMTTYPE=text/html:<div dir="auto" style="font-family: &quot\;Segoe UI Historic&quot\;\, &quot\;Segoe UI&quot\;\, Helvetica\, Arial\, sans-serif\; color: rgb(5\, 5\, 5)\; font-size: 15px\; white-space: pre-wrap\; background-color: rgb(255\, 255\, 255)\;">Join the Washington County Chamber of Commerce to celebrate the official passing of the gavel from the current Board of Directors Chair to the incoming Chair.</div>\n\n<div dir="auto" style="font-family: &quot\;Segoe UI Historic&quot\;\, &quot\;Segoe UI&quot\;\, Helvetica\, Arial\, sans-serif\; color: rgb(5\, 5\, 5)\; font-size: 15px\; white-space: pre-wrap\; background-color: rgb(255\, 255\, 255)\;">On Zoom December 8th at 10am</div>\n\n<div dir="auto" style="font-family: &quot\;Segoe UI Historic&quot\;\, &quot\;Segoe UI&quot\;\, Helvetica\, Arial\, sans-serif\; color: rgb(5\, 5\, 5)\; font-size: 15px\; white-space: pre-wrap\; background-color: rgb(255\, 255\, 255)\;">Please look on our Facebook Page for Zoom information.</div>\n\n<div dir="auto" style="background-color: rgb(255\, 255\, 255)\;"><font color="#050505" face="Segoe UI Historic\, Segoe UI\, Helvetica\, Arial\, sans-serif"><span style="font-size: 15px\; white-space: pre-wrap\;">https://www.facebook.com/WashingtonCountyChamberofCommerce</span></font></div>\n
LOCATION:Zoom
UID:e.3074.3716
SEQUENCE:3
DTSTAMP:20260423T074745Z
URL:https://www.washcomall.com/events/details/annual-meeting-3716
END:VEVENT

END:VCALENDAR
