BEGIN:VCALENDAR
VERSION:2.0
PRODID:-//ChamberMaster//Event Calendar 2.0//EN
METHOD:PUBLISH
X-PUBLISHED-TTL:P3D
REFRESH-INTERVAL:P3D
CALSCALE:GREGORIAN
BEGIN:VEVENT
DTSTART:20221112T180000Z
DTEND:20221113T020000Z
X-MICROSOFT-CDO-ALLDAYEVENT:FALSE
SUMMARY:BBQ In The Pines
DESCRIPTION:Food\, Music\, and Fun for All Ages!
X-ALT-DESC;FMTTYPE=text/html:Food\, Music\, and Fun for All Ages!
LOCATION:1963 Hard Labor Road Chipley\, Florida
UID:e.3074.3731
SEQUENCE:3
DTSTAMP:20260422T144522Z
URL:https://www.washcomall.com/events/details/bbq-in-the-pines-3731
END:VEVENT

END:VCALENDAR
