BEGIN:VCALENDAR
VERSION:2.0
PRODID:-//ChamberMaster//Event Calendar 2.0//EN
METHOD:PUBLISH
X-PUBLISHED-TTL:P3D
REFRESH-INTERVAL:P3D
CALSCALE:GREGORIAN
BEGIN:VEVENT
DTSTART:20220922T223000Z
DTEND:20220923T000000Z
X-MICROSOFT-CDO-ALLDAYEVENT:FALSE
SUMMARY:Business After Hours
DESCRIPTION:
X-ALT-DESC;FMTTYPE=text/html:
LOCATION:The Ugly Mug Coffee & Cafe\, 1306 North Railroad Ave.
UID:e.3074.3729
SEQUENCE:3
DTSTAMP:20260422T193150Z
URL:https://www.washcomall.com/events/details/business-after-hours-3729
END:VEVENT

END:VCALENDAR
