BEGIN:VCALENDAR
VERSION:2.0
PRODID:-//ChamberMaster//Event Calendar 2.0//EN
METHOD:PUBLISH
X-PUBLISHED-TTL:P3D
REFRESH-INTERVAL:P3D
CALSCALE:GREGORIAN
BEGIN:VEVENT
DTSTART:20221215T233000Z
DTEND:20221216T013000Z
X-MICROSOFT-CDO-ALLDAYEVENT:FALSE
SUMMARY:Chamber After Hours sponsored by Elite Realty
DESCRIPTION:Please join us for a festive\, holiday-themed Chamber After Hours at the fabulous Sullivan House Bed & Breakfast\, sponsored by Elite Realty.
X-ALT-DESC;FMTTYPE=text/html:Please join us for a festive\, holiday-themed Chamber After Hours at the fabulous Sullivan House Bed &amp\; Breakfast\, sponsored by Elite Realty.
LOCATION:1305 Church Avenue Chipley\, Florida
UID:e.3074.3759
SEQUENCE:3
DTSTAMP:20260422T145644Z
URL:https://www.washcomall.com/events/details/chamber-after-hours-sponsored-by-elite-realty-3759
END:VEVENT

END:VCALENDAR
