BEGIN:VCALENDAR
VERSION:2.0
PRODID:-//ChamberMaster//Event Calendar 2.0//EN
METHOD:PUBLISH
X-PUBLISHED-TTL:P3D
REFRESH-INTERVAL:P3D
CALSCALE:GREGORIAN
BEGIN:VEVENT
DTSTART:20220803T170000Z
DTEND:20220803T180000Z
X-MICROSOFT-CDO-ALLDAYEVENT:FALSE
SUMMARY:Chipley Garden Club
DESCRIPTION:
X-ALT-DESC;FMTTYPE=text/html:
LOCATION:
UID:e.3074.3707
SEQUENCE:3
DTSTAMP:20260422T193852Z
URL:https://www.washcomall.com/events/details/chipley-garden-club-08-03-2022-3707
END:VEVENT

END:VCALENDAR
