BEGIN:VCALENDAR
VERSION:2.0
PRODID:-//ChamberMaster//Event Calendar 2.0//EN
METHOD:PUBLISH
X-PUBLISHED-TTL:P3D
REFRESH-INTERVAL:P3D
CALSCALE:GREGORIAN
BEGIN:VEVENT
DTSTART:20221103T230000Z
DTEND:20221104T020000Z
X-MICROSOFT-CDO-ALLDAYEVENT:FALSE
SUMMARY:Chipley Woman's Club Kirby Decorating Showcase
DESCRIPTION:
X-ALT-DESC;FMTTYPE=text/html:
LOCATION:Vance Theater\, 799 Main St.\, Chipley\, FL
UID:e.3074.3737
SEQUENCE:3
DTSTAMP:20260422T145940Z
URL:https://www.washcomall.com/events/details/chipley-woman-s-club-kirby-decorating-showcase-3737
END:VEVENT

END:VCALENDAR
