BEGIN:VCALENDAR
VERSION:2.0
PRODID:-//ChamberMaster//Event Calendar 2.0//EN
METHOD:PUBLISH
X-PUBLISHED-TTL:P3D
REFRESH-INTERVAL:P3D
CALSCALE:GREGORIAN
BEGIN:VEVENT
DTSTART:20221104T150000Z
DTEND:20221104T170000Z
X-MICROSOFT-CDO-ALLDAYEVENT:FALSE
SUMMARY:Chipley Woman's Club Kirby Decorating Showcase
DESCRIPTION:At conclusion of Showcase will proceed to Gloria's 1901 Cafe for lunch.
X-ALT-DESC;FMTTYPE=text/html:At conclusion of Showcase will proceed to Gloria&#39\;s 1901 Cafe for lunch.
LOCATION:Vance Theater\, 799 Main St.\, Chipley\, FL 1901 Cafe\, 803 Main St.\, Chipley\, FL
UID:e.3074.3738
SEQUENCE:3
DTSTAMP:20260422T145945Z
URL:https://www.washcomall.com/events/details/chipley-woman-s-club-kirby-decorating-showcase-3738
END:VEVENT

END:VCALENDAR
