BEGIN:VCALENDAR
VERSION:2.0
PRODID:-//ChamberMaster//Event Calendar 2.0//EN
METHOD:PUBLISH
X-PUBLISHED-TTL:P3D
REFRESH-INTERVAL:P3D
CALSCALE:GREGORIAN
BEGIN:VEVENT
DTSTART:20220419T203000Z
DTEND:20220419T213000Z
X-MICROSOFT-CDO-ALLDAYEVENT:FALSE
SUMMARY:CRA Meeting
DESCRIPTION:
X-ALT-DESC;FMTTYPE=text/html:
LOCATION:Washington County Chamber of Commerce 672 5th Street Chipley\, FL
UID:e.3074.2726
SEQUENCE:3
DTSTAMP:20260423T031947Z
URL:https://www.washcomall.com/events/details/cra-meeting-04-19-2022-2726
END:VEVENT

END:VCALENDAR
