BEGIN:VCALENDAR
VERSION:2.0
PRODID:-//ChamberMaster//Event Calendar 2.0//EN
METHOD:PUBLISH
X-PUBLISHED-TTL:P3D
REFRESH-INTERVAL:P3D
CALSCALE:GREGORIAN
BEGIN:VEVENT
DTSTART;VALUE=DATE:20210910
DTEND;VALUE=DATE:20210912
TRANSP:TRANSPARENT
X-MICROSOFT-CDO-ALLDAYEVENT:TRUE
SUMMARY:Flea Across Florida
DESCRIPTION:Flea Across Florida is Florida's longest open market going from Jacksonville to Pensacola. Our events are always the 2nd Fri. & Sat. in April & Sept.
X-ALT-DESC;FMTTYPE=text/html:<div>&nbsp\;</div>\n\n<div><span style="color: rgb(5\, 5\, 5)\; font-family: &quot\;Segoe UI Historic&quot\;\, &quot\;Segoe UI&quot\;\, Helvetica\, Arial\, sans-serif\; font-size: 15px\; background-color: rgb(255\, 255\, 255)\;">Flea Across Florida is Florida&#39\;s longest open market going from Jacksonville to Pensacola. Our events are always the 2nd Fri. &amp\; Sat. in April &amp\; Sept.</span></div>\n
LOCATION:
UID:e.3074.3708
SEQUENCE:3
DTSTAMP:20260423T122549Z
URL:https://www.washcomall.com/events/details/flea-across-florida-3708
END:VEVENT

END:VCALENDAR
