BEGIN:VCALENDAR
VERSION:2.0
PRODID:-//ChamberMaster//Event Calendar 2.0//EN
METHOD:PUBLISH
X-PUBLISHED-TTL:P3D
REFRESH-INTERVAL:P3D
CALSCALE:GREGORIAN
BEGIN:VEVENT
DTSTART:20221001T140000Z
DTEND:20221001T170000Z
X-MICROSOFT-CDO-ALLDAYEVENT:FALSE
SUMMARY:Fresh Fest - Florida Department of Health
DESCRIPTION:Activities for All!\n\nHealthy Recipes\n\nFree Food Samples\n\nFace Painting\n\nOutdoor Activities.\n\nAlso 3 Educational Sessions:  Canning Demonstrations\, Fall Planting Basics\, and Flower Planting for Pest Control.  Attend All Three and receive a Garden in a Bucket!
X-ALT-DESC;FMTTYPE=text/html:Activities for All!<br />\nHealthy Recipes<br />\nFree Food Samples<br />\nFace Painting<br />\nOutdoor Activities.<br />\nAlso 3 Educational Sessions:&nbsp\; Canning Demonstrations\, Fall Planting Basics\, and Flower Planting for Pest Control.&nbsp\; Attend All Three and receive a Garden in a Bucket!
LOCATION:Washington County Public Library 1444 Jackson Ave. Chipley\, FL
UID:e.3074.3747
SEQUENCE:3
DTSTAMP:20260422T160846Z
URL:https://www.washcomall.com/events/details/fresh-fest-florida-department-of-health-3747
END:VEVENT

END:VCALENDAR
