BEGIN:VCALENDAR
VERSION:2.0
PRODID:-//ChamberMaster//Event Calendar 2.0//EN
METHOD:PUBLISH
X-PUBLISHED-TTL:P3D
REFRESH-INTERVAL:P3D
CALSCALE:GREGORIAN
BEGIN:VEVENT
DTSTART:20230209T130000Z
DTEND:20230212T055500Z
X-MICROSOFT-CDO-ALLDAYEVENT:FALSE
SUMMARY:Home Sweet Home Dessert Auction
DESCRIPTION:It's time for the Chipola Area Habitat for Humanity's 3rd Annual Home Sweet Home Dessert Auction! Dessert donations will be accepted through February 1st. Donation forms can be picked up at either Chipola Habitat ReStore or completed online. Visit our website to learn more https://www.chipolahabitat.org/home-sweet-home-2023/
X-ALT-DESC;FMTTYPE=text/html:It&#39\;s time for the Chipola Area Habitat for Humanity&#39\;s 3rd Annual Home Sweet Home Dessert Auction! Dessert donations will be accepted through February 1st. Donation forms can be picked up at either Chipola Habitat ReStore or completed online. Visit our website to learn more https://www.chipolahabitat.org/home-sweet-home-2023/
LOCATION:Chipola Area Habitat for Humanity\, 4736 Hwy 90\, Marianna\, FL 32446
UID:e.3074.3761
SEQUENCE:3
DTSTAMP:20260420T094643Z
URL:https://www.washcomall.com/events/details/home-sweet-home-dessert-auction-3761
END:VEVENT

END:VCALENDAR
