BEGIN:VCALENDAR
VERSION:2.0
PRODID:-//ChamberMaster//Event Calendar 2.0//EN
METHOD:PUBLISH
X-PUBLISHED-TTL:P3D
REFRESH-INTERVAL:P3D
CALSCALE:GREGORIAN
BEGIN:VEVENT
DTSTART:20260428T140000Z
DTEND:20260428T170000Z
X-MICROSOFT-CDO-ALLDAYEVENT:FALSE
SUMMARY:Job Fair and Career Expo
DESCRIPTION:Local businesses! We are inviting you to represent your company at our Expo!! You will have candidates and local partners attending- you can source\, screen and staff your Spring and Summer now!! Please sign up today!!
X-ALT-DESC;FMTTYPE=text/html:Local businesses! We are inviting you to represent your company at our Expo!! You will have candidates and local partners attending- you can source\, screen and staff your Spring and Summer now!! Please sign up today!!
LOCATION:Washington County Ag Center 1424 Jackson Ave Chipley\, FL
UID:e.3074.5156
SEQUENCE:3
DTSTAMP:20260421T182153Z
URL:https://www.washcomall.com/events/details/job-fair-and-career-expo-5156
END:VEVENT

END:VCALENDAR
