BEGIN:VCALENDAR
VERSION:2.0
PRODID:-//ChamberMaster//Event Calendar 2.0//EN
METHOD:PUBLISH
X-PUBLISHED-TTL:P3D
REFRESH-INTERVAL:P3D
CALSCALE:GREGORIAN
BEGIN:VEVENT
DTSTART;VALUE=DATE:20220223
DTEND;VALUE=DATE:20220225
TRANSP:TRANSPARENT
X-MICROSOFT-CDO-ALLDAYEVENT:TRUE
SUMMARY:Northwest Florida Days
DESCRIPTION:Join Northwest Florida's business and community leaders as we invite all Florida's legislators\, key state leaders and other influencers to attend a reception celebrating the impacts of the region.
X-ALT-DESC;FMTTYPE=text/html:<span style="color:#146293\;"><span style="font-family:arial\,sans-serif\;"><span style="font-size:13.5pt\;">Join Northwest Florida&rsquo\;s business and community leaders as we invite all Florida&rsquo\;s legislators\, key state leaders and other influencers to attend a reception celebrating the impacts of the region.</span></span></span>
LOCATION:Railroad Square Craft House 620 Railroad Square Tallahassee\, FL 32310
UID:e.3074.3718
SEQUENCE:3
DTSTAMP:20260423T044158Z
URL:https://www.washcomall.com/events/details/northwest-florida-days-3718
END:VEVENT

END:VCALENDAR
