BEGIN:VCALENDAR
VERSION:2.0
PRODID:-//ChamberMaster//Event Calendar 2.0//EN
METHOD:PUBLISH
X-PUBLISHED-TTL:P3D
REFRESH-INTERVAL:P3D
CALSCALE:GREGORIAN
BEGIN:VEVENT
DTSTART:20220624T220000Z
DTEND:20220625T220000Z
X-MICROSOFT-CDO-ALLDAYEVENT:FALSE
SUMMARY:Panhandle Watermelon Festival
DESCRIPTION:"Melons and Music are Comin' in Hot" for the 66th Annual Panhandle Watermelon Festival that will take place on June 24th & 25th in Chipley\, Florida. This year's FREE concert will be held at Jim Trawick Park at 6:00p.m. on Friday\, June 24th. Performing on the big stage will be country music stars Josh Turner and Shenandoah. This event is family friendly with festival style seating\, and includes free activities for the kids beginning at 5:00p.m Find out more here https://www.panhandlewatermelon.com/
X-ALT-DESC;FMTTYPE=text/html:&ldquo\;Melons and Music are Comin&rsquo\; in Hot&rdquo\; for the 66th Annual Panhandle Watermelon Festival that will take place on June 24th &amp\; 25th in Chipley\, Florida. This year&rsquo\;s FREE concert will be held at Jim Trawick Park at 6:00p.m. on Friday\, June 24th. Performing on the big stage will be country music stars Josh Turner and Shenandoah. This event is family friendly with festival style seating\, and includes free activities for the kids beginning at 5:00p.m Find out more here https://www.panhandlewatermelon.com/
LOCATION:Jim Trawick Park: 1544 N Railroad Ave\, Chipley\, FL 32428
UID:e.3074.3723
SEQUENCE:3
DTSTAMP:20260422T224250Z
URL:https://www.washcomall.com/events/details/panhandle-watermelon-festival-06-24-2022-3723
END:VEVENT

END:VCALENDAR
