BEGIN:VCALENDAR
VERSION:2.0
PRODID:-//ChamberMaster//Event Calendar 2.0//EN
METHOD:PUBLISH
X-PUBLISHED-TTL:P3D
REFRESH-INTERVAL:P3D
CALSCALE:GREGORIAN
BEGIN:VEVENT
DTSTART:20211221T160000Z
DTEND:20211221T180000Z
X-MICROSOFT-CDO-ALLDAYEVENT:FALSE
SUMMARY:Ribbon Cutting
DESCRIPTION:Join the Washington County Chamber of Commerce for a Ribbon Cutting to celebrate Dr. Gerald Lachance welcoming him to Northwest Florida Community Hospital!
X-ALT-DESC;FMTTYPE=text/html:<div dir="auto" style="font-family: &quot\;Segoe UI Historic&quot\;\, &quot\;Segoe UI&quot\;\, Helvetica\, Arial\, sans-serif\; color: rgb(5\, 5\, 5)\; font-size: 15px\; white-space: pre-wrap\; background-color: rgb(255\, 255\, 255)\;">Join the Washington County Chamber of Commerce for a Ribbon Cutting to celebrate Dr. Gerald Lachance welcoming him to Northwest Florida Community Hospital!</div>\n\n<div dir="auto" style="font-family: &quot\;Segoe UI Historic&quot\;\, &quot\;Segoe UI&quot\;\, Helvetica\, Arial\, sans-serif\; color: rgb(5\, 5\, 5)\; font-size: 15px\; white-space: pre-wrap\; background-color: rgb(255\, 255\, 255)\;">&nbsp\;</div>\n
LOCATION:Northwest Florida Community Hospital 1376 Brickyard Road Chipley\, FL 32428 Suite 5
UID:e.3074.3717
SEQUENCE:3
DTSTAMP:20260423T074746Z
URL:https://www.washcomall.com/events/details/ribbon-cutting-3717
END:VEVENT

END:VCALENDAR
