BEGIN:VCALENDAR
VERSION:2.0
PRODID:-//ChamberMaster//Event Calendar 2.0//EN
METHOD:PUBLISH
X-PUBLISHED-TTL:P3D
REFRESH-INTERVAL:P3D
CALSCALE:GREGORIAN
BEGIN:VEVENT
DTSTART:20221114T174500Z
DTEND:20221114T180000Z
X-MICROSOFT-CDO-ALLDAYEVENT:FALSE
SUMMARY:Ribbon Cutting\, Blessed Mess Housekeeping & Organizing
DESCRIPTION:
X-ALT-DESC;FMTTYPE=text/html:
LOCATION:Ribbon Cutting to be held at the Chamber of Commerce\, 672 5th Street in Chipley.
UID:e.3074.3757
SEQUENCE:3
DTSTAMP:20260422T160309Z
URL:https://www.washcomall.com/events/details/ribbon-cutting-blessed-mess-housekeeping-organizing-3757
END:VEVENT

END:VCALENDAR
