BEGIN:VCALENDAR
VERSION:2.0
PRODID:-//ChamberMaster//Event Calendar 2.0//EN
METHOD:PUBLISH
X-PUBLISHED-TTL:P3D
REFRESH-INTERVAL:P3D
CALSCALE:GREGORIAN
BEGIN:VEVENT
DTSTART:20230501T143000Z
DTEND:20230501T150000Z
X-MICROSOFT-CDO-ALLDAYEVENT:FALSE
SUMMARY:Ribbon Cutting - City of Chipley Splash Pad
DESCRIPTION:
X-ALT-DESC;FMTTYPE=text/html:
LOCATION:Jim Trawick Park 1544 N Railroad Ave\, Chipley\, FL 32428
UID:e.3074.3773
SEQUENCE:3
DTSTAMP:20260420T083331Z
URL:https://www.washcomall.com/events/details/ribbon-cutting-city-of-chipley-splash-pad-3773
END:VEVENT

END:VCALENDAR
