BEGIN:VCALENDAR
VERSION:2.0
PRODID:-//ChamberMaster//Event Calendar 2.0//EN
METHOD:PUBLISH
X-PUBLISHED-TTL:P3D
REFRESH-INTERVAL:P3D
CALSCALE:GREGORIAN
BEGIN:VEVENT
DTSTART:20230405T154500Z
DTEND:20230405T161500Z
X-MICROSOFT-CDO-ALLDAYEVENT:FALSE
SUMMARY:Ribbon Cutting - Senor Sushi and Grill
DESCRIPTION:
X-ALT-DESC;FMTTYPE=text/html:
LOCATION:1414 Main Street\, Suite 9 Chipley\, Florida
UID:e.3074.3767
SEQUENCE:3
DTSTAMP:20260420T082031Z
URL:https://www.washcomall.com/events/details/ribbon-cutting-senor-sushi-and-grill-3767
END:VEVENT

END:VCALENDAR
