BEGIN:VCALENDAR
VERSION:2.0
PRODID:-//ChamberMaster//Event Calendar 2.0//EN
METHOD:PUBLISH
X-PUBLISHED-TTL:P3D
REFRESH-INTERVAL:P3D
CALSCALE:GREGORIAN
BEGIN:VEVENT
DTSTART:20220907T190000Z
DTEND:20220907T200000Z
X-MICROSOFT-CDO-ALLDAYEVENT:FALSE
SUMMARY:Ribbon Cutting - The Barn at Wynter's Haven
DESCRIPTION:Join us for the Grand Opening and Ribbon Cutting at 2:00 PM. 910 Washington Blvd.\, Chipley.
X-ALT-DESC;FMTTYPE=text/html:Join us for the Grand Opening and Ribbon Cutting at 2:00 PM. 910 Washington Blvd.\, Chipley.
LOCATION:
UID:e.3074.3728
SEQUENCE:3
DTSTAMP:20260422T193239Z
URL:https://www.washcomall.com/events/details/ribbon-cutting-the-barn-at-wynter-s-haven-3728
END:VEVENT

END:VCALENDAR
