BEGIN:VCALENDAR
VERSION:2.0
PRODID:-//ChamberMaster//Event Calendar 2.0//EN
METHOD:PUBLISH
X-PUBLISHED-TTL:P3D
REFRESH-INTERVAL:P3D
CALSCALE:GREGORIAN
BEGIN:VEVENT
DTSTART:20230323T140000Z
DTEND:20230323T170000Z
X-MICROSOFT-CDO-ALLDAYEVENT:FALSE
SUMMARY:SBDC Business Consulting Workshop
DESCRIPTION:Calling all Washington County small business owners or prospective entrepreneurs! Stop by our SBDC Pop-Up Shop the morning of Thursday\, March 23   no appointment necessary. Ask questions and get answers when it comes to your business idea or how your operation is doing. We've got the expertise and resources\, and can help with big or quick questions across industries and at no cost to you. Mark some time to come by the Washington County Chamber of Commerce at 672 5th St. in Chipley between 9 a.m. and noon. We hope to see you there!\n\n\n\n#smallbusiness #smallbusinessowner #entreprenuer #smallbusinesssupport #smallbiz #florida #nwflorida #panhandle #washingtoncounty #chipley #marianna #bainbridge #blountstown #washingtoncountyFL
X-ALT-DESC;FMTTYPE=text/html:<em><span style="color:black\;"><span style="font-family:arial\,sans-serif\;"><span style="font-size:12.0pt\;">Calling all Washington County small business owners or prospective entrepreneurs! Stop by our SBDC Pop-Up Shop the morning of Thursday\, March 23 &mdash\; no appointment necessary. Ask questions and get answers when it comes to your business idea or how your operation is doing. We&#39\;ve got the expertise and resources\, and can help with big or quick questions across industries and at no cost to you. Mark some time to come by the Washington County Chamber of Commerce at 672 5th St. in Chipley between 9 a.m. and noon. We hope to see you there!<br />\n<br />\n#smallbusiness #smallbusinessowner #entreprenuer #smallbusinesssupport #smallbiz #florida #nwflorida #panhandle #washingtoncounty #chipley #marianna #bainbridge #blountstown #washingtoncountyFL</span></span></span></em>
LOCATION:
UID:e.3074.3765
SEQUENCE:3
DTSTAMP:20260420T082540Z
URL:https://www.washcomall.com/events/details/sbdc-business-consulting-workshop-3765
END:VEVENT

END:VCALENDAR
