BEGIN:VCALENDAR
VERSION:2.0
PRODID:-//ChamberMaster//Event Calendar 2.0//EN
METHOD:PUBLISH
X-PUBLISHED-TTL:P3D
REFRESH-INTERVAL:P3D
CALSCALE:GREGORIAN
BEGIN:VEVENT
DTSTART:20221009T000000Z
DTEND:20221009T030000Z
X-MICROSOFT-CDO-ALLDAYEVENT:FALSE
SUMMARY:Spanish Trail Playhouse presents "Camp Meeting
DESCRIPTION:Celebrating our Gospel heritage through music!\n\nFeaturing the old-fashioned camp-meeting style of the past.
X-ALT-DESC;FMTTYPE=text/html:Celebrating our Gospel heritage through music!<br />\nFeaturing the old-fashioned camp-meeting style of the past.
LOCATION:Spanish Trail Playhouse 680 Second Street Chipley\, FL 850-638-9113
UID:e.3074.3751
SEQUENCE:3
DTSTAMP:20260422T160522Z
URL:https://www.washcomall.com/events/details/spanish-trail-playhouse-presents-camp-meeting-3751
END:VEVENT

END:VCALENDAR
