BEGIN:VCALENDAR
VERSION:2.0
PRODID:-//ChamberMaster//Event Calendar 2.0//EN
METHOD:PUBLISH
X-PUBLISHED-TTL:P3D
REFRESH-INTERVAL:P3D
CALSCALE:GREGORIAN
BEGIN:VEVENT
DTSTART:20230427T140000Z
DTEND:20230427T170000Z
X-MICROSOFT-CDO-ALLDAYEVENT:FALSE
SUMMARY:Starting a Business
DESCRIPTION:You have an idea for a business! Develop your business idea with the Florida SBDC's "Starting a Business" workshop. In this workshop\, we will discuss the details of launching your new venture\, including how to determine feasibility and legal structures\, licensing and permitting\, funding options for your business and basic marketing strategies to help you get started! To register\, visit sbdc.uwf.edu and open "Training & Events".
X-ALT-DESC;FMTTYPE=text/html:You have an idea for a business! Develop your business idea with the Florida SBDC&rsquo\;s &ldquo\;Starting a Business&rdquo\; workshop. In this workshop\, we will discuss the details of launching your new venture\, including how to determine feasibility and legal structures\, licensing and permitting\, funding options for your business and basic marketing strategies to help you get started! To register\, visit sbdc.uwf.edu and open &ldquo\;Training &amp\; Events&rdquo\;.
LOCATION:Walton Area Chamber of Commerce\, 63 South Centre Trail\, Santa Rosa Beach\, 32459.
UID:e.3074.3769
SEQUENCE:3
DTSTAMP:20260420T081916Z
URL:https://www.washcomall.com/events/details/starting-a-business-04-27-2023-3769
END:VEVENT

END:VCALENDAR
