BEGIN:VCALENDAR
VERSION:2.0
PRODID:-//ChamberMaster//Event Calendar 2.0//EN
METHOD:PUBLISH
X-PUBLISHED-TTL:P3D
REFRESH-INTERVAL:P3D
CALSCALE:GREGORIAN
BEGIN:VEVENT
DTSTART:20190830T180000Z
DTEND:20190830T200000Z
X-MICROSOFT-CDO-ALLDAYEVENT:FALSE
SUMMARY:Starting a Business
DESCRIPTION:Take the first steps in starting your small business! Attendees will learn the essentials for getting started in business including: idea evaluation\, legal business structures\, regulations & licensing\, taxation\, finding capital and more. Pre-registration required.
X-ALT-DESC;FMTTYPE=text/html:Take the first steps in starting your small business! Attendees will learn the essentials for getting started in business including: idea evaluation\, legal business structures\, regulations &amp\; licensing\, taxation\, finding capital and more. Pre-registration required.
LOCATION:Florida SBDC at UWF/Panama City Carr\, Riggs and Ingram CPAs 14101 Panama City Beach Pkwy\, Ste. 200 Panama City Beach\, 32413
UID:e.3074.3667
SEQUENCE:3
DTSTAMP:20260424T160918Z
URL:https://www.washcomall.com/events/details/starting-a-business-08-30-2019-3667
END:VEVENT

END:VCALENDAR
