BEGIN:VCALENDAR
VERSION:2.0
PRODID:-//ChamberMaster//Event Calendar 2.0//EN
METHOD:PUBLISH
X-PUBLISHED-TTL:P3D
REFRESH-INTERVAL:P3D
CALSCALE:GREGORIAN
BEGIN:VEVENT
DTSTART:20190801T233000Z
DTEND:20190802T003000Z
X-MICROSOFT-CDO-ALLDAYEVENT:FALSE
SUMMARY:Sunny Hills Civic Association Meeting
DESCRIPTION:
X-ALT-DESC;FMTTYPE=text/html:
LOCATION:
UID:e.3074.1263
SEQUENCE:3
DTSTAMP:20260424T161216Z
URL:https://www.washcomall.com/events/details/sunny-hills-civic-association-meeting-08-01-2019-1263
END:VEVENT

END:VCALENDAR
