BEGIN:VCALENDAR
VERSION:2.0
PRODID:-//ChamberMaster//Event Calendar 2.0//EN
METHOD:PUBLISH
X-PUBLISHED-TTL:P3D
REFRESH-INTERVAL:P3D
CALSCALE:GREGORIAN
BEGIN:VEVENT
DTSTART:20220910T220000Z
DTEND:20220911T030000Z
X-MICROSOFT-CDO-ALLDAYEVENT:FALSE
SUMMARY:WCSO 2022 Rodeo
DESCRIPTION:
X-ALT-DESC;FMTTYPE=text/html:
LOCATION:Washington County Equestrian Center 2574 Daniels Lake Road\, Chipley\, FL
UID:e.3074.3746
SEQUENCE:3
DTSTAMP:20260422T192013Z
URL:https://www.washcomall.com/events/details/wcso-2022-rodeo-3746
END:VEVENT

END:VCALENDAR
