BEGIN:VCALENDAR
VERSION:2.0
PRODID:-//ChamberMaster//Event Calendar 2.0//EN
METHOD:PUBLISH
X-PUBLISHED-TTL:P3D
REFRESH-INTERVAL:P3D
CALSCALE:GREGORIAN
BEGIN:VEVENT
DTSTART:20220609T223000Z
DTEND:20220610T210000Z
X-MICROSOFT-CDO-ALLDAYEVENT:FALSE
SUMMARY:Women Build 2022
DESCRIPTION:Chipola Area Habitat for Humanity is hosting Women Build 2022 on June 9th and 10th. The event kicks off with an Advocacy Dinner on June 9th at 5:30 PM at the Jackson County Agricultural Conference Center\, 2741 Penn Ave\, in Marianna\, followed by a Build Day held from 7:30 a.m. to 4:00 p.m. on June 10th at the 700 Block of East Boulevard in Chipley. Event registration is $75 for both the Advocacy Dinner & Build Day or $40 for either individual event. Sponsorships are available. For more information visit
X-ALT-DESC;FMTTYPE=text/html:Chipola Area Habitat for Humanity is hosting Women Build 2022 on June 9th and 10th. The event kicks off with an Advocacy Dinner on June 9th at 5:30 PM at the Jackson County Agricultural Conference Center\, 2741 Penn Ave\, in Marianna\, followed by a Build Day held from 7:30 a.m. to 4:00 p.m. on June 10th at the 700 Block of East Boulevard in Chipley. Event registration is $75 for both the Advocacy Dinner &amp\; Build Day or $40 for either individual event. Sponsorships are available. For more information visit
LOCATION:Advocacy Dinner: Jackson County Agricultural Conference Center\, 2741 Penn Ave\, Marianna\, FL Build Day: 700 Block of East Boulevard\, Chipley\, FL
UID:e.3074.3722
SEQUENCE:3
DTSTAMP:20260423T000926Z
URL:https://www.washcomall.com/events/details/women-build-2022-3722
END:VEVENT

END:VCALENDAR
