BEGIN:VCALENDAR
VERSION:2.0
PRODID:-//ChamberMaster//Event Calendar 2.0//EN
METHOD:PUBLISH
X-PUBLISHED-TTL:P3D
REFRESH-INTERVAL:P3D
CALSCALE:GREGORIAN
BEGIN:VEVENT
DTSTART:20230512T170000Z
DTEND:20230512T180000Z
X-MICROSOFT-CDO-ALLDAYEVENT:FALSE
SUMMARY:Women Build Advocacy Luncheon presented by Florida Power & Light
DESCRIPTION:In conjunction with Chipola Area Habitat for Humanity and sponsored by Florida Power & Light.  Featuring HGTV's Egypt Sherrod!  Don't miss your chance to hear from Egypt Sherrod at the 2023 Women Build Advocacy Luncheon!  Egypt is a television host best known for HGTV's "Married to Real Estate"\, as well as an author\, designer\, motivational speaker\, and CEO of the Egypt Sherrod Real Estate Group.
X-ALT-DESC;FMTTYPE=text/html:In conjunction with Chipola Area Habitat for Humanity and sponsored by Florida Power &amp\; Light.&nbsp\; Featuring HGTV&#39\;s Egypt Sherrod!&nbsp\; Don&#39\;t miss your chance to hear from Egypt Sherrod at the 2023 Women Build Advocacy Luncheon!&nbsp\; Egypt is a television host best known for HGTV&#39\;s &quot\;Married to Real Estate&quot\;\, as well as an author\, designer\, motivational speaker\, and CEO of the Egypt Sherrod Real Estate Group.
LOCATION:Chipola College Cultural Center 3094 Indian Circle Marianna\, FL 32446 850-482-2187
UID:e.3074.3778
SEQUENCE:3
DTSTAMP:20260420T102806Z
URL:https://www.washcomall.com/events/details/women-build-advocacy-luncheon-presented-by-florida-power-light-3778
END:VEVENT

END:VCALENDAR
